BEGIN:VCALENDAR
VERSION:2.0
PRODID:-//ChamberMaster//Event Calendar 2.0//EN
METHOD:PUBLISH
X-PUBLISHED-TTL:P3D
REFRESH-INTERVAL:P3D
CALSCALE:GREGORIAN
BEGIN:VEVENT
DTSTART;VALUE=DATE:20231020
DTEND;VALUE=DATE:20231021
TRANSP:TRANSPARENT
X-MICROSOFT-CDO-ALLDAYEVENT:TRUE
SUMMARY:Yesterday Once More
DESCRIPTION:Yesterday Once More (Karen Carpenter tribute)\n\n"Yesterday Once More" was a hit song for The Carpenters from their 1973 album Now and Then. The lyrics thoughtfully reminisce about songs of the past and the memories brought forth from hearing them. Joanne O'Brien and her velvety voice\, bring the sounds of the 1970s through the music of Karen Carpenter and the sounds that inspired so many. Through a cavalcade of iconic classics\, Joanne illuminates the musical diversity\, pop culture and political climate of that time in history when the world first fell in love with the magical sound of Karen and Richard Carpenter.
X-ALT-DESC;FMTTYPE=text/html:Yesterday Once More (Karen Carpenter tribute)<br />\n&quot\;Yesterday Once More&quot\; was a hit song for The Carpenters from their 1973 album Now and Then. The lyrics thoughtfully reminisce about songs of the past and the memories brought forth from hearing them. Joanne O&#39\;Brien and her velvety voice\, bring the sounds of the 1970s through the music of Karen Carpenter and the sounds that inspired so many. Through a cavalcade of iconic classics\, Joanne illuminates the musical diversity\, pop culture and political climate of that time in history when the world first fell in love with the magical sound of Karen and Richard Carpenter.
LOCATION:Park Rapids Area High School Auditorium
UID:e.91.42412
SEQUENCE:3
DTSTAMP:20260425T110248Z
URL:http://parkrapids.chambermaster.com/events/details/yesterday-once-more-42412
END:VEVENT

END:VCALENDAR
