BEGIN:VCALENDAR
VERSION:2.0
PRODID:-//ChamberMaster//Event Calendar 2.0//EN
METHOD:PUBLISH
X-PUBLISHED-TTL:P3D
REFRESH-INTERVAL:P3D
CALSCALE:GREGORIAN
BEGIN:VEVENT
DTSTART;VALUE=DATE:20240609
DTEND;VALUE=DATE:20240617
TRANSP:TRANSPARENT
X-MICROSOFT-CDO-ALLDAYEVENT:TRUE
SUMMARY:Workbench: New Play Workshop
DESCRIPTION:Workbench: New Play Workshop\n\nNLOC is proud to host the 4th Annual Workbench New Play workshop in 2024! We are currently accepting applications for writers interested in creating their own original play. Writers of all levels are welcome. \n\nParticipants will be led through a series of exercises by NYC playwrights Gregory Paul & Melanie Goodreaux\, culminating in a public performance of their work on Sunday\, June 16.
X-ALT-DESC;FMTTYPE=text/html:Workbench: New Play Workshop<br />\nNLOC is proud to host the 4th Annual Workbench New Play workshop in 2024! We are currently accepting applications for writers interested in creating their own original play. Writers of all levels are welcome.&nbsp\;<br />\nParticipants will be led through a series of exercises by NYC playwrights <strong>Gregory Paul &amp\; Melanie Goodreaux</strong>\, culminating in a public performance of their work on Sunday\, June 16.&nbsp\;
LOCATION:Armory Arts and Events Center
UID:e.91.44010
SEQUENCE:3
DTSTAMP:20260421T203004Z
URL:http://parkrapids.chambermaster.com/events/details/workbench-new-play-workshop-44010
END:VEVENT

END:VCALENDAR
