BEGIN:VCALENDAR
VERSION:2.0
PRODID:-//ChamberMaster//Event Calendar 2.0//EN
METHOD:PUBLISH
X-PUBLISHED-TTL:P3D
REFRESH-INTERVAL:P3D
CALSCALE:GREGORIAN
BEGIN:VEVENT
DTSTART;VALUE=DATE:20240619
DTEND;VALUE=DATE:20240620
TRANSP:TRANSPARENT
X-MICROSOFT-CDO-ALLDAYEVENT:TRUE
SUMMARY:Wild Wednesday!
DESCRIPTION:Wild Wednesdays!\n\n10:00 am June 12- August 28th\n\nExplore the world of nature with your child during this hour-long adventure for 3 7 year olds. Listen to a story\n\ngo for a hike\, make a craft. See back page for topics. Space is limited. Registration required for these free programs.\n\nSave a spot for your child at Eventbrite.com. Sign up early. Spots fill up fast!
X-ALT-DESC;FMTTYPE=text/html:Wild Wednesdays!<br />\n10:00 am June 12- August 28th<br />\nExplore the world of nature with your child during this hour-long adventure for 3&ndash\;7 year olds. Listen to a story<br />\ngo for a hike\, make a craft. See back page for topics. Space is limited. Registration required for these free programs.<br />\nSave a spot for your child at Eventbrite.com. Sign up early. Spots fill up fast!
LOCATION:Tamarac National Wildlife Refuge
UID:e.91.44139
SEQUENCE:3
DTSTAMP:20260420T205301Z
URL:http://parkrapids.chambermaster.com/events/details/wild-wednesday-44139
END:VEVENT

END:VCALENDAR
