BEGIN:VCALENDAR
VERSION:2.0
PRODID:-//ChamberMaster//Event Calendar 2.0//EN
METHOD:PUBLISH
X-PUBLISHED-TTL:P3D
REFRESH-INTERVAL:P3D
CALSCALE:GREGORIAN
BEGIN:VEVENT
DTSTART;VALUE=DATE:20230625
DTEND;VALUE=DATE:20230626
TRANSP:TRANSPARENT
X-MICROSOFT-CDO-ALLDAYEVENT:TRUE
SUMMARY:Tree-Mendous Trees
DESCRIPTION:Join Ranger JJ to learn about the importance of trees to wildlife and forestry practices past and present on the refuge. There will be a presentation and a short hike to practice our forestry skills. Meet at the Discovery Center. Dress accordingly to ward off ticks and other biting insects. Register for this free program through the Friends of Tamarac at Eventbrite.com
X-ALT-DESC;FMTTYPE=text/html:<span style="color: rgb(0\, 0\, 0)\; font-family: Calibri\, Arial\, Helvetica\, sans-serif\; font-size: 16px\;">Join Ranger JJ to learn about the importance of trees to wildlife and forestry practices past and present on the refuge. There will be a presentation and a short hike to practice our forestry skills. Meet at the Discovery Center. Dress accordingly to ward off ticks and other biting insects.&nbsp\;</span><b style="color: rgb(0\, 0\, 0)\; font-family: Calibri\, Arial\, Helvetica\, sans-serif\; font-size: 16px\;">Register for this free program through the Friends of Tamarac at Eventbrite.com&nbsp\;</b>
LOCATION:Tamarac National Wildlife Refuge 35704 Cty Hwy 26 Rochert\, MN 56578
UID:e.91.41958
SEQUENCE:3
DTSTAMP:20260425T144108Z
URL:http://parkrapids.chambermaster.com/events/details/tree-mendous-trees-41958
END:VEVENT

END:VCALENDAR
