BEGIN:VCALENDAR
VERSION:2.0
PRODID:-//ChamberMaster//Event Calendar 2.0//EN
METHOD:PUBLISH
X-PUBLISHED-TTL:P3D
REFRESH-INTERVAL:P3D
CALSCALE:GREGORIAN
BEGIN:VEVENT
DTSTART;VALUE=DATE:20231015
DTEND;VALUE=DATE:20231016
TRANSP:TRANSPARENT
X-MICROSOFT-CDO-ALLDAYEVENT:TRUE
SUMMARY:Sunday Brunch
DESCRIPTION:Join us between 10am and 2pm to enjoy a special brunch menu including a breakfast board\, Belgium waffles\, mimosa flights\, and bloody beers! Our regular menu will also still be available. We will be open the 3rd Sunday of each month throughout the Fall and Winter.
X-ALT-DESC;FMTTYPE=text/html:<span style="color: rgb(5\, 5\, 5)\; font-family: &quot\;Segoe UI Historic&quot\;\, &quot\;Segoe UI&quot\;\, Helvetica\, Arial\, sans-serif\; font-size: 15px\;">Join us between 10am and 2pm to enjoy a special brunch menu including a breakfast board\, Belgium waffles\, mimosa flights\, and bloody beers! Our regular menu will also still be available. We will be open the 3rd Sunday of each month throughout the Fall and Winter.</span><span style="color: rgb(5\, 5\, 5)\; font-family: &quot\;Segoe UI Historic&quot\;\, &quot\;Segoe UI&quot\;\, Helvetica\, Arial\, sans-serif\; font-size: 15px\;">&nbsp\;</span>
LOCATION:Wine Not? Park Rapids
UID:e.91.42657
SEQUENCE:3
DTSTAMP:20260424T124349Z
URL:http://parkrapids.chambermaster.com/events/details/sunday-brunch-42657
END:VEVENT

END:VCALENDAR
