BEGIN:VCALENDAR
VERSION:2.0
PRODID:-//ChamberMaster//Event Calendar 2.0//EN
METHOD:PUBLISH
X-PUBLISHED-TTL:P3D
REFRESH-INTERVAL:P3D
CALSCALE:GREGORIAN
BEGIN:VEVENT
DTSTART:20240601T170000Z
DTEND:20240601T180000Z
X-MICROSOFT-CDO-ALLDAYEVENT:FALSE
SUMMARY:Summer Fun Time Remote
DESCRIPTION:Join Delahunt Media at Tilly's Pet Supply's Grand Opening and Customer Appreciation Event in their new location at 305 Main Ave S in Downtown Park Rapids. Can't make it to the store? Listen on KXKK 92.5 FM.\n\n\n\nFree lunch\, in-store giveaways\, ticket giveaways and get registered to win a grill in our Summer Fun Time Giveaway.\n\n\n\nWe'll be grilling hot dogs\, get 'em while they last.
X-ALT-DESC;FMTTYPE=text/html:Join Delahunt Media at Tilly&#39\;s Pet Supply&#39\;s Grand Opening and Customer Appreciation Event in their new location at 305 Main Ave S in Downtown Park Rapids. Can&#39\;t make it to the store? Listen on KXKK 92.5 FM.<br />\n<br />\nFree lunch\, in-store giveaways\, ticket giveaways and get registered to win a grill in our Summer Fun Time Giveaway.<br />\n<br />\nWe&#39\;ll be grilling hot dogs\, get &#39\;em while they last.<br />\n&nbsp\;
LOCATION:Tilly's Pet Supply 305 Main Ave S Park Rapids\, MN 56470
UID:e.91.44719
SEQUENCE:3
DTSTAMP:20260421T032141Z
URL:http://parkrapids.chambermaster.com/events/details/summer-fun-time-remote-44719
END:VEVENT

END:VCALENDAR
