BEGIN:VCALENDAR
VERSION:2.0
PRODID:-//ChamberMaster//Event Calendar 2.0//EN
METHOD:PUBLISH
X-PUBLISHED-TTL:P3D
REFRESH-INTERVAL:P3D
CALSCALE:GREGORIAN
BEGIN:VEVENT
DTSTART;VALUE=DATE:20240406
DTEND;VALUE=DATE:20240407
TRANSP:TRANSPARENT
X-MICROSOFT-CDO-ALLDAYEVENT:TRUE
SUMMARY:Spring Sip & Shop
DESCRIPTION:See the newest trends in Spring and Summer Fashion for Women\, Men\, teens to Children. Get Spring inspiration from Sue Tomte - Independent Mary Kay Consultant\, Glik's\, Camp 71\, Kathryn's on Main\, Lazy One and Sunbeam and Company.\n\nDoor prizes along with store coupons. Admission $8.\n\nReserve your spot today by calling Wine Not? at 218-366-2071 or buying your ticket at this ticket link.
X-ALT-DESC;FMTTYPE=text/html:<div>See the newest trends in Spring and Summer Fashion for Women\, Men\, teens to Children. Get Spring inspiration from Sue Tomte - Independent Mary Kay Consultant\, Glik&#39\;s\, Camp 71\, Kathryn&#39\;s on Main\, Lazy One and Sunbeam and Company.</div>\n\n<div>Door prizes along with store coupons. Admission $8.</div>\n\n<div>Reserve your spot today by calling Wine Not? at 218-366-2071 or buying your ticket <a href="https://www.winenotparkrapids.com/booking-calendar/spring-sip-and-shop-fashion-show?utm_medium=page_links&amp\;fbclid=IwAR222R67Z84dm0fIRQ4r9vbEDWuqoTlbLpI0_rivP6BQ1MrAYdIYeLBUUGA">at this ticket link</a>.</div>\n
LOCATION:Wine Not? 110 4th St W Park Rapids\, MN 56470
UID:e.91.43676
SEQUENCE:3
DTSTAMP:20260421T010923Z
URL:http://parkrapids.chambermaster.com/events/details/spring-sip-shop-43676
END:VEVENT

END:VCALENDAR
