BEGIN:VCALENDAR
VERSION:2.0
PRODID:-//ChamberMaster//Event Calendar 2.0//EN
METHOD:PUBLISH
X-PUBLISHED-TTL:P3D
REFRESH-INTERVAL:P3D
CALSCALE:GREGORIAN
BEGIN:VEVENT
DTSTART;VALUE=DATE:20230617
DTEND;VALUE=DATE:20230618
TRANSP:TRANSPARENT
X-MICROSOFT-CDO-ALLDAYEVENT:TRUE
SUMMARY:PR Firefighters Open House
DESCRIPTION:The Park Rapids Fire Department is hosting its annual\, family-friendly open house from 11 a.m. to 3 p.m. on Saturday\, June 17.\n\nSeveral fire safety demonstrations are planned. Families can tour the fire trucks on display.\n\nFace painting\, caricatures\, dunk tanks and bouncy houses are among the entertainment.\n\nFirefighters are grilling a hot lunch. Freewill donations will be accepted.
X-ALT-DESC;FMTTYPE=text/html:<p style="background-repeat: no-repeat\; box-sizing: border-box\; margin: 0px 0px 20px\; color: rgb(41\, 41\, 41)\; font-family: Georgia\; font-size: 20px\;">The Park Rapids Fire Department is hosting&nbsp\;its annual\, family-friendly open house from 11 a.m. to 3 p.m. on Saturday\, June 17.</p>\n\n<p style="background-repeat: no-repeat\; box-sizing: border-box\; margin: 20px 0px\; color: rgb(41\, 41\, 41)\; font-family: Georgia\; font-size: 20px\;">Several fire safety demonstrations are planned. Families can tour the fire trucks on display.</p>\n\n<p style="background-repeat: no-repeat\; box-sizing: border-box\; margin: 20px 0px\; color: rgb(41\, 41\, 41)\; font-family: Georgia\; font-size: 20px\;">Face painting\, caricatures\, dunk tanks and bouncy houses are among the entertainment.</p>\n\n<p style="background-repeat: no-repeat\; box-sizing: border-box\; margin: 20px 0px\; color: rgb(41\, 41\, 41)\; font-family: Georgia\; font-size: 20px\;">Firefighters are grilling a hot lunch. Freewill donations will be accepted.</p>\n
LOCATION:Park Rapids Fire Station Highway 71 S \, Park Rapids\, MN\, United States\, Minnesota
UID:e.91.41952
SEQUENCE:3
DTSTAMP:20260425T130056Z
URL:http://parkrapids.chambermaster.com/events/details/pr-firefighters-open-house-41952
END:VEVENT

END:VCALENDAR
