BEGIN:VCALENDAR
VERSION:2.0
PRODID:-//ChamberMaster//Event Calendar 2.0//EN
METHOD:PUBLISH
X-PUBLISHED-TTL:P3D
REFRESH-INTERVAL:P3D
CALSCALE:GREGORIAN
BEGIN:VEVENT
DTSTART;VALUE=DATE:20230726
DTEND;VALUE=DATE:20230727
TRANSP:TRANSPARENT
X-MICROSOFT-CDO-ALLDAYEVENT:TRUE
SUMMARY:Paint and Pour Class
DESCRIPTION:Come join us as Jenny Meyer guides us through painting a beautiful dragonfly picture on a candle holder and then Dorset Candle Co will be here to help you create and pour your own unique candle into those beautifully painted holders!\n\n**Painting picture coming soon!**\n\nCost is $60 and includes all materials to create your candle\, paint your holder\, and it also includes your first glass of wine!
X-ALT-DESC;FMTTYPE=text/html:<div class="xdj266r x11i5rnm xat24cr x1mh8g0r x1vvkbs" style="margin: 0px\; overflow-wrap: break-word\; font-family: &quot\;Segoe UI Historic&quot\;\, &quot\;Segoe UI&quot\;\, Helvetica\, Arial\, sans-serif\; color: rgb(5\, 5\, 5)\; font-size: 15px\;">Come join us as Jenny Meyer guides us through painting a beautiful dragonfly picture on a candle holder and then Dorset Candle Co will be here to help you create and pour your own unique candle into those beautifully painted holders!</div>\n\n<div class="x11i5rnm xat24cr x1mh8g0r x1vvkbs xtlvy1s" style="margin: 0.5em 0px 0px\; overflow-wrap: break-word\; font-family: &quot\;Segoe UI Historic&quot\;\, &quot\;Segoe UI&quot\;\, Helvetica\, Arial\, sans-serif\; color: rgb(5\, 5\, 5)\; font-size: 15px\;">**Painting picture coming soon!**</div>\n\n<div class="x11i5rnm xat24cr x1mh8g0r x1vvkbs xtlvy1s" style="margin: 0.5em 0px 0px\; overflow-wrap: break-word\; font-family: &quot\;Segoe UI Historic&quot\;\, &quot\;Segoe UI&quot\;\, Helvetica\, Arial\, sans-serif\; color: rgb(5\, 5\, 5)\; font-size: 15px\;">Cost is $60 and includes all materials to create your candle\, paint your holder\, and it also includes your first glass of wine!</div>\n
LOCATION:Wine Not? Park Rapids
UID:e.91.42246
SEQUENCE:3
DTSTAMP:20260425T163328Z
URL:http://parkrapids.chambermaster.com/events/details/paint-and-pour-class-42246
END:VEVENT

END:VCALENDAR
