BEGIN:VCALENDAR
VERSION:2.0
PRODID:-//ChamberMaster//Event Calendar 2.0//EN
METHOD:PUBLISH
X-PUBLISHED-TTL:P3D
REFRESH-INTERVAL:P3D
CALSCALE:GREGORIAN
BEGIN:VEVENT
DTSTART;VALUE=DATE:20231210
DTEND;VALUE=DATE:20231211
TRANSP:TRANSPARENT
X-MICROSOFT-CDO-ALLDAYEVENT:TRUE
SUMMARY:Open Art Studio
DESCRIPTION:The new AA&EC Artist Studio on the second floor of AA&EC\, will be open to artist wanting a space to create their art.  The fee is $5.00 which will be collected on the day of use\, cash or check only.
X-ALT-DESC;FMTTYPE=text/html:<span id="docs-internal-guid-6007ff49-7fff-ae55-21ba-82f9b076f82e"><span style="font-size: 11pt\; font-family: Arial\, sans-serif\; color: rgb(0\, 0\, 0)\; background-color: transparent\; font-variant-numeric: normal\; font-variant-east-asian: normal\; font-variant-alternates: normal\; font-variant-position: normal\; vertical-align: baseline\; white-space-collapse: preserve\;">The new AA&amp\;EC Artist Studio on the second floor of AA&amp\;EC\, will be open to artist wanting a space to create their art.&nbsp\; The fee is $5.00 which will be collected on the day of use\, cash or check only. </span></span>
LOCATION:Location: Artist Studio 3A - 2nd Floor Armory Arts and Events Center
UID:e.91.42705
SEQUENCE:3
DTSTAMP:20260424T095441Z
URL:http://parkrapids.chambermaster.com/events/details/open-art-studio-42705
END:VEVENT

END:VCALENDAR
