BEGIN:VCALENDAR
VERSION:2.0
PRODID:-//ChamberMaster//Event Calendar 2.0//EN
METHOD:PUBLISH
X-PUBLISHED-TTL:P3D
REFRESH-INTERVAL:P3D
CALSCALE:GREGORIAN
BEGIN:VEVENT
DTSTART;VALUE=DATE:20240830
DTEND;VALUE=DATE:20240902
TRANSP:TRANSPARENT
X-MICROSOFT-CDO-ALLDAYEVENT:TRUE
SUMMARY:Nimrod Bull Bash
DESCRIPTION:22nd Annual Nimrod Bull Bash! Bullriding\, live music\, camping\, vendors\, and so much more!\n\n\n\nTwo miles east of Nimrod\, MN. \n\nContact info:\nTroy - 218-639-9299\n\nHeidi - 218-639-3673\n\nnimrodbullbash@yahoo.com\n\n25612 Co Rd 12 Sebeka\, MN 56477
X-ALT-DESC;FMTTYPE=text/html:22nd Annual Nimrod Bull Bash! Bullriding\, live music\, camping\, vendors\, and so much more!<br />\n<br />\nTwo miles east of Nimrod\, MN.&nbsp\;<br />\nContact info:\n<div align="center" style="color: rgb(0\, 0\, 0)\; font-family: &quot\;Times New Roman&quot\;\; font-size: 1px\; line-height: 1px\;"><font class="size12 BreeSerif12" color="#000000" face="Bree Serif" style="font-size: 16px\; line-height: normal\;">Troy - 218-639-9299</font></div>\n\n<div align="center" style="color: rgb(0\, 0\, 0)\; font-family: &quot\;Times New Roman&quot\;\; font-size: 1px\; line-height: 1px\;"><font class="size12 BreeSerif12" color="#000000" face="Bree Serif" style="font-size: 16px\; line-height: normal\;">Heidi - 218-639-3673</font></div>\n\n<div align="center" style="color: rgb(0\, 0\, 0)\; font-family: &quot\;Times New Roman&quot\;\; font-size: 1px\; line-height: 1px\;"><font class="size12 BreeSerif12" color="#000000" face="Bree Serif" style="font-size: 16px\; line-height: normal\;">nimrodbullbash@yahoo.com</font></div>\n\n<div align="center" style="color: rgb(0\, 0\, 0)\; font-family: &quot\;Times New Roman&quot\;\; font-size: 1px\; line-height: 1px\;"><font class="size12 BreeSerif12" color="#000000" face="Bree Serif" style="font-size: 16px\; line-height: normal\;">25612 Co Rd 12 Sebeka\, MN 56477</font></div>\n
LOCATION:
UID:e.91.44886
SEQUENCE:3
DTSTAMP:20260421T061852Z
URL:http://parkrapids.chambermaster.com/events/details/nimrod-bull-bash-44886
END:VEVENT

END:VCALENDAR
