BEGIN:VCALENDAR
VERSION:2.0
PRODID:-//ChamberMaster//Event Calendar 2.0//EN
METHOD:PUBLISH
X-PUBLISHED-TTL:P3D
REFRESH-INTERVAL:P3D
CALSCALE:GREGORIAN
BEGIN:VEVENT
DTSTART;VALUE=DATE:20240503
DTEND;VALUE=DATE:20240504
TRANSP:TRANSPARENT
X-MICROSOFT-CDO-ALLDAYEVENT:TRUE
SUMMARY:Nemeth Open House
DESCRIPTION:Join the Nemeth Art Center in celebrating the opening of their 2024 gallery season. Executive Director Mark Weiler will share details about this year's artists and their growing residency program.
X-ALT-DESC;FMTTYPE=text/html:Join the Nemeth Art Center in celebrating the opening of their 2024 gallery season. Executive Director Mark Weiler will share details about this year&#39\;s artists and their growing residency program.&nbsp\;
LOCATION:Bella Caffe
UID:e.91.44076
SEQUENCE:3
DTSTAMP:20260423T035755Z
URL:http://parkrapids.chambermaster.com/events/details/nemeth-open-house-44076
END:VEVENT

END:VCALENDAR
