BEGIN:VCALENDAR
VERSION:2.0
PRODID:-//ChamberMaster//Event Calendar 2.0//EN
METHOD:PUBLISH
X-PUBLISHED-TTL:P3D
REFRESH-INTERVAL:P3D
CALSCALE:GREGORIAN
BEGIN:VEVENT
DTSTART;VALUE=DATE:20240601
DTEND;VALUE=DATE:20240602
TRANSP:TRANSPARENT
X-MICROSOFT-CDO-ALLDAYEVENT:TRUE
SUMMARY:National Trails Day
DESCRIPTION:Saturday June 1\, 9:00 am  Celebrate National Trails Day. Join the North Country Trail Association members for a hike. Meet at the visitor center parking area. Hikers will be shuttled to Pine Lake Trailhead for a 5-mile trek. Bring water\, insect repellent and wear sturdy shoes for this journey along Tamarac Lake and through the mixed forest. Want to get to know more of the North Country Trail? Consider these hikes with association members as well: June 5\, 9:00 am Hike from the Blackbird Wildlife Drive to the Visitor Center for a total of 4.5 miles. Meet at the visitor center to shuttle to starting point. June 15\, 9:00 am Hike from Blackbird Wildlife Drive to 400th Ave. Meet at 400th Ave Trailhead we'll shuttle to starting point. This hike includes the magical boardwalk through the boreal bog. June 19\, 9:00 am Hike from county Hwy 26 to 400th Ave. Meet at the 400th Ave Trailhead for shuttle to starting point.
X-ALT-DESC;FMTTYPE=text/html:<p style="margin: 0in\; color: rgb(34\, 34\, 34)\; font-family: Arial\, Helvetica\, sans-serif\; font-size: small\; line-height: 13.91px\;"><span style="font-family: Arial\, sans-serif\; font-size: 8pt\; color: rgb(0\, 0\, 0)\; line-height: 11.4133px\;">&nbsp\;</span></p>\n\n<p style="margin: 0in\; color: rgb(34\, 34\, 34)\; font-family: Arial\, Helvetica\, sans-serif\; font-size: small\; line-height: 13.91px\;"><span style="font-family: Arial\, sans-serif\; font-size: 10pt\; color: rgb(0\, 112\, 192)\; line-height: 14.2667px\;"><b>Saturday June 1\, 9:00 am&nbsp\; Celebrate National Trails Day.</b>&nbsp\;</span><span style="font-family: Arial\, sans-serif\; font-size: 10pt\; color: rgb(0\, 0\, 0)\; line-height: 14.2667px\;">Join the North Country Trail Association members for a hike. Meet at the visitor center parking area. Hikers will be shuttled to Pine Lake Trailhead for a 5-mile trek. Bring water\, insect repellent and wear sturdy shoes for this journey along Tamarac Lake and through the mixed forest.&nbsp\;<b>Want to get to know more of the North Country Trail? Consider these hikes with association members as well: June 5</b>\,&nbsp\;<b>9:00 am&nbsp\;</b>Hike from the Blackbird Wildlife Drive to the Visitor Center for a total of 4.5 miles. Meet at the visitor center to shuttle to starting point.&nbsp\;<b>June 15\,</b>&nbsp\;<b>9:00 am</b>&nbsp\;Hike from Blackbird Wildlife Drive to 400<sup>th</sup>&nbsp\;Ave. Meet at 400<sup>th</sup>&nbsp\;Ave Trailhead we&rsquo\;ll shuttle to starting point. This hike includes the magical boardwalk through the boreal bog.&nbsp\;<b>June 19\, 9:00 am&nbsp\;</b>Hike from county Hwy 26 to 400<sup>th</sup>&nbsp\;Ave. Meet at the 400<sup>th</sup>&nbsp\;Ave Trailhead for shuttle to starting point.&nbsp\;&nbsp\;</span></p>\n
LOCATION:Meet at the visitor center to shuttle to starting point. Tamarac National Wildlife Refuge 35704 Cty Hwy 26 Rochert\, MN 56578
UID:e.91.44255
SEQUENCE:3
DTSTAMP:20260426T011343Z
URL:http://parkrapids.chambermaster.com/events/details/national-trails-day-44255
END:VEVENT

END:VCALENDAR
