BEGIN:VCALENDAR
VERSION:2.0
PRODID:-//ChamberMaster//Event Calendar 2.0//EN
METHOD:PUBLISH
X-PUBLISHED-TTL:P3D
REFRESH-INTERVAL:P3D
CALSCALE:GREGORIAN
BEGIN:VEVENT
DTSTART:20241005T230000Z
DTEND:20241006T010000Z
X-MICROSOFT-CDO-ALLDAYEVENT:FALSE
SUMMARY:Legacy Five Concert
DESCRIPTION:Prepare for some Amazing Southern Gospel Music with one of the top Groups in this style!! We are super excited to Present Legacy Five on Saturday\, October 5th.\n\n\n\nVIP ticket holders will be able to enter Door S1 at 4:30pm and will have a special Meet and Greet time with the artists before the event begins. General and Budget ticket holders will be able to enter at 5pm (look below for specific doors).\n\n\n\nThis event will be held in the sanctuary of Faithbridge Church in Park Rapids\, MN. The seating capacity will top out at 600. There will be no reserving or saving seats the night of the event. The front 50 seats will be reserved for our VIP ticket holders\, the Middle 350 cloth chairs are for the General ticket holders\, and the Back 200 plastic chairs are for the Budget ticket holders \n\n\n\nRegular Attendees will enter doors marked N1 (To purchase tickets)\, N2 (Will Call)\, E1 (To purchase tickets)\, W1 (Already have tickets). All other entrances will be locked. \n\n\n\nNo food or drinks will be allowed into the event.  \n\n\n\nOnline ticket purchases (credit card only) will need to be picked up at church by/on 10/3 or they will be at the Will Call Door the night of the concert. Stop by the church office to purchase tickets with cash or check.
X-ALT-DESC;FMTTYPE=text/html:<span style="font-family:system-ui\,-apple-system\,blinkmacsystemfont\,segoe ui\,roboto\,helvetica\,arial\,sans-serif\,apple color emoji\,segoe ui emoji\,segoe ui symbol\; font-size:medium">Prepare for some Amazing Southern Gospel Music with one of the top Groups in this style!! We are super excited to Present Legacy Five on Saturday\, October 5th.</span><br />\n<br />\n<span style="font-family:system-ui\,-apple-system\,blinkmacsystemfont\,segoe ui\,roboto\,helvetica\,arial\,sans-serif\,apple color emoji\,segoe ui emoji\,segoe ui symbol\; font-size:medium">VIP ticket holders will be able to enter Door S1 at 4:30pm and will have a special Meet and Greet time with the artists before the event begins. General and Budget ticket holders will be able to enter at 5pm (look below for specific doors).</span><br />\n<br />\n<span style="font-family:system-ui\,-apple-system\,blinkmacsystemfont\,segoe ui\,roboto\,helvetica\,arial\,sans-serif\,apple color emoji\,segoe ui emoji\,segoe ui symbol\; font-size:medium">This event will be held in the sanctuary of Faithbridge Church in Park Rapids\, MN. The seating capacity will top out at 600. There will be no reserving or saving seats the night of the event. The front 50 seats will be reserved for our VIP ticket holders\, the Middle 350 cloth chairs are for the General ticket holders\, and the Back 200 plastic chairs are for the Budget ticket holders&nbsp\;</span><br />\n<br />\n<span style="font-family:system-ui\,-apple-system\,blinkmacsystemfont\,segoe ui\,roboto\,helvetica\,arial\,sans-serif\,apple color emoji\,segoe ui emoji\,segoe ui symbol\; font-size:medium">Regular Attendees will enter doors marked N1 (To purchase tickets)\, N2 (Will Call)\, E1 (To purchase tickets)\, W1 (Already have tickets). All other entrances will be locked.&nbsp\;</span><br />\n<br />\n<span style="font-family:system-ui\,-apple-system\,blinkmacsystemfont\,segoe ui\,roboto\,helvetica\,arial\,sans-serif\,apple color emoji\,segoe ui emoji\,segoe ui symbol\; font-size:medium">No food or drinks will be allowed into the event. &nbsp\;</span><br />\n<br />\n<span style="font-family:system-ui\,-apple-system\,blinkmacsystemfont\,segoe ui\,roboto\,helvetica\,arial\,sans-serif\,apple color emoji\,segoe ui emoji\,segoe ui symbol\; font-size:medium">Online ticket purchases (credit card only) will need to be picked up at church by/on 10/3 or they will be at the Will Call Door the night of the concert. Stop by the church office to purchase tickets with cash or check.&nbsp\;</span>
LOCATION:Faithbridge Church 1505 Park Avenue South Park Rapids\, MN 56470
UID:e.91.44903
SEQUENCE:3
DTSTAMP:20260425T133346Z
URL:http://parkrapids.chambermaster.com/events/details/legacy-five-concert-44903
END:VEVENT

END:VCALENDAR
