BEGIN:VCALENDAR
VERSION:2.0
PRODID:-//ChamberMaster//Event Calendar 2.0//EN
METHOD:PUBLISH
X-PUBLISHED-TTL:P3D
REFRESH-INTERVAL:P3D
CALSCALE:GREGORIAN
BEGIN:VEVENT
DTSTART;VALUE=DATE:20231028
DTEND;VALUE=DATE:20231029
TRANSP:TRANSPARENT
X-MICROSOFT-CDO-ALLDAYEVENT:TRUE
SUMMARY:Halloween Party!
DESCRIPTION:We will be celebrating our one year anniversary - so hard to believe! - and are having a big Halloween Party on Saturday\, October 28. The Lollygaggers\, an outlaw folk band from Fargo will be playing from 7-10 pm. Halloween Costume Contest: $150 cash prize. Food and drink specials throughout the day.
X-ALT-DESC;FMTTYPE=text/html:<span style="color: rgb(34\, 34\, 34)\; font-family: Arial\, Helvetica\, sans-serif\; font-size: small\;">We will be celebrating our one year anniversary - so hard to believe! - and are having a big Halloween Party on Saturday\, October 28. The Lollygaggers\, an outlaw folk band from Fargo will be playing from 7-10 pm. Halloween Costume Contest: $150 cash prize. Food and drink specials throughout the day.&nbsp\;</span>
LOCATION:Two Inlets County Store
UID:e.91.42696
SEQUENCE:3
DTSTAMP:20260426T030457Z
URL:http://parkrapids.chambermaster.com/events/details/halloween-party-42696
END:VEVENT

END:VCALENDAR
