BEGIN:VCALENDAR
VERSION:2.0
PRODID:-//ChamberMaster//Event Calendar 2.0//EN
METHOD:PUBLISH
X-PUBLISHED-TTL:P3D
REFRESH-INTERVAL:P3D
CALSCALE:GREGORIAN
BEGIN:VEVENT
DTSTART;VALUE=DATE:20231028
DTEND;VALUE=DATE:20231029
TRANSP:TRANSPARENT
X-MICROSOFT-CDO-ALLDAYEVENT:TRUE
SUMMARY:Driftwood Basket Workshop
DESCRIPTION:DRIFTWOOD BASKET WORKSHOP\n\n\n\n \n\n\n	Registration for this class is full!  If you would like to be put on the waiting list please email: jkjenaas@parkrapidsarmory.org \n\n\n \n\nJoin artist Shannon Lucas Westrum in creating your own unique driftwood basket. The driftwood baskets will vary in shape and size based on the size of the driftwood. Participants will start with a driftwood handle (approximately 8-10") and an attached rim hoop. They'll learn the process to creating and adding ribs as they weave the sides of their frame baskets. Weavers will be a choice of round reed and flat rattan\, with the opportunity to add accents of dyed reed or local grasses. Finished basket will be similar to the sample in style and size (9"x7"x7").  Click here to register for the class. Class Time: 4 hr.  Class Fee: $15.00. Instructor will supply all weaving materials\, clip\, shears\, water tubs\, and rags. Students may bring their own towels\, spray bottles or aprons (in case of snags) if they wish. Class Size: 10-12 students Classroom needs: 2-3' feet of table space per student\, chairs\, access to water for filling tubs or buckets. Shannon Lucas Westrum is a fiscal year 2023 recipient of a Creative Support for Individuals grant from the Minnesota State Arts Board. This activity is made possible by the voters of Minnesota through a grant from the Minnesota State Arts Board\, thanks to a legislative appropriation by the Minnesota State Legislature\; and by a grant from the National Endowment for the Arts.
X-ALT-DESC;FMTTYPE=text/html:<h4 aria-level="4" class="x-el x-el-h4 c2-6d c2-6e c2-5s c2-5t c2-76 c2-1a c2-18 c2-17 c2-19 c2-3 c2-6g c2-4 c2-65 c2-5 c2-6 c2-7 c2-8" data-aid="CALENDAR_EVENT_TITLE" data-typography="HeadingDelta" data-ux="HeadingMinor" role="heading" style="box-sizing: inherit\; font-family: Roboto\, arial\, sans-serif\; font-size: 16px\; margin: 0px\; overflow-wrap: break-word\; letter-spacing: 0.125em\; text-transform: uppercase\; color: rgb(27\, 27\, 27)\; line-height: 1.25\;">DRIFTWOOD BASKET WORKSHOP</h4>\n\n<div class="x-el x-el-div c2-1 c2-2 c2-3 c2-4 c2-5 c2-6 c2-7 c2-8" data-aid="CALENDAR_DESC" data-ux="Block" style="box-sizing: inherit\; font-family: Roboto\, arial\, sans-serif\; font-size: 16px\; color: rgb(0\, 0\, 0)\;">\n<div class="x-el c2-1 c2-2 c2-5s c2-5t c2-5u c2-7g c2-19 c2-3 c2-7h c2-4 c2-65 c2-5 c2-6 c2-7 c2-8 x-rt" data-aid="CALENDAR_DESC_TEXT" data-typography="BodyAlpha" data-ux="Text" fontscalemultiplier="1" style="box-sizing: inherit\; margin-bottom: 0px\; overflow-wrap: break-word\; line-height: 1.5\; margin-top: 16px\; color: rgb(94\, 94\, 94)\;">\n<p style="box-sizing: inherit\; margin: 0px\;">&nbsp\;</p>\n\n<ul style="box-sizing: inherit\;">\n	<li style="box-sizing: inherit\;">Registration for this class is full! &nbsp\;If you would like to be put on the waiting list please email:&nbsp\;<a class="x-el x-el-a c2-7n c2-7o c2-87 c2-5s c2-5t c2-88 c2-j c2-89 c2-3 c2-78 c2-7r c2-6h c2-7s" href="mailto:jkjenaas@parkrapidsarmory.org" style="box-sizing: inherit\; background-color: transparent\; color: rgb(27\, 64\, 209)\; cursor: pointer\; overflow-wrap: break-word\; letter-spacing: inherit\; text-transform: inherit\; font-weight: inherit\; display: inline\; font-size: unset\;" target="_blank">jkjenaas@parkrapidsarmory.org</a>&nbsp\;</li>\n</ul>\n\n<p>&nbsp\;</p>\n\n<p style="box-sizing: inherit\; margin: 0px\;"><span style="box-sizing: inherit\;">Join artist Shannon Lucas Westrum in creating your own unique driftwood basket. The driftwood baskets will vary in shape and size based on the size of the driftwood. Participants will start with a driftwood handle (approximately 8-10&rdquo\;) and an attached rim hoop. They&rsquo\;ll learn the process to creating and adding ribs as they weave the sides of their frame baskets. Weavers will be a choice of round reed and flat rattan\, with the opportunity to add accents of dyed reed or local grasses. Finished basket will be similar to the sample in style and size (9&rdquo\;x7&rdquo\;x7&rdquo\;). &nbsp\;<a class="x-el x-el-a c2-7n c2-7o c2-87 c2-5s c2-5t c2-88 c2-j c2-89 c2-3 c2-78 c2-7r c2-6h c2-7s" href="https://form.jotform.com/232565047515153" rel="noopener" style="box-sizing: inherit\; background-color: transparent\; color: rgb(27\, 64\, 209)\; cursor: pointer\; overflow-wrap: break-word\; letter-spacing: inherit\; text-transform: inherit\; font-weight: inherit\; display: inline\; font-size: unset\;" target="_blank">Click here</a>&nbsp\;to register for the class. Class Time: 4 hr. &nbsp\;Class Fee: $15.00. Instructor will supply all weaving materials\, clip\, shears\, water tubs\, and rags. Students may bring their own towels\, spray bottles or aprons (in case of snags) if they wish. Class Size: 10-12 students Classroom needs: 2-3&rsquo\; feet of table space per student\, chairs\, access to water for filling tubs or buckets. Shannon Lucas Westrum is a fiscal year 2023 recipient of a Creative Support for Individuals grant from the Minnesota State Arts Board. This activity is made possible by the voters of Minnesota through a grant from the Minnesota State Arts Board\, thanks to a legislative appropriation by the Minnesota State Legislature\; and by a grant from the National Endowment for the Arts.&nbsp\;</span></p>\n</div>\n</div>\n
LOCATION:Armory Arts and Events Center Park Rapids
UID:e.91.42693
SEQUENCE:3
DTSTAMP:20260425T002137Z
URL:http://parkrapids.chambermaster.com/events/details/driftwood-basket-workshop-42693
END:VEVENT

END:VCALENDAR
