BEGIN:VCALENDAR
VERSION:2.0
PRODID:-//ChamberMaster//Event Calendar 2.0//EN
METHOD:PUBLISH
X-PUBLISHED-TTL:P3D
REFRESH-INTERVAL:P3D
CALSCALE:GREGORIAN
BEGIN:VEVENT
DTSTART;VALUE=DATE:20240118
DTEND;VALUE=DATE:20240119
TRANSP:TRANSPARENT
X-MICROSOFT-CDO-ALLDAYEVENT:TRUE
SUMMARY:Community Learning Forum
DESCRIPTION:How to Identify and Avoid SCAMS\n\n\n\nHave you ever wondered if something was real or a scam? Do you want to know how to avoid\n\nbeing scammed? Join us for a Community Learning Forum that will identify different types of\n\nscams\, how to spot a scam and what to do if you or someone you know are involved in a scam.\n\nOur expert presenters from the Hubbard County Sheriff's Department and the Hubbard County\n\nAttorney's Office will also discuss scams that have occurred in our County. There will be time\n\nfor Q&amp\;A. This informational session is free and open to all\, but preregistration online is\n\nrequested.\n\n\n\nDate/Time: Thursday\, January 18 from 1:30   3:00 p.m.\n\nLocation: Bethany Lutheran Church in Nevis\n\nPresenters: Investigator Bill Schlag &amp\; Crime Victims Coordinator Jill Christenson\n\nRegistration: Register online at Nevis Community Education.\n\n(www.nevis.k12.mn.us   Community Education/Current Programs)\n\nHosted By: Nevis Community Ed. and Bethany Lutheran Church
X-ALT-DESC;FMTTYPE=text/html:How to Identify and Avoid SCAMS<br />\n<br />\nHave you ever wondered if something was real or a scam? Do you want to know how to avoid<br />\nbeing scammed? Join us for a Community Learning Forum that will identify different types of<br />\nscams\, how to spot a scam and what to do if you or someone you know are involved in a scam.<br />\nOur expert presenters from the Hubbard County Sheriff&rsquo\;s Department and the Hubbard County<br />\nAttorney&rsquo\;s Office will also discuss scams that have occurred in our County. There will be time<br />\nfor Q&amp\;amp\;A. This informational session is free and open to all\, but preregistration online is<br />\nrequested.<br />\n<br />\nDate/Time: Thursday\, January 18 from 1:30 &ndash\; 3:00 p.m.<br />\nLocation: Bethany Lutheran Church in Nevis<br />\nPresenters: Investigator Bill Schlag &amp\;amp\; Crime Victims Coordinator Jill Christenson<br />\nRegistration: Register online at Nevis Community Education.<br />\n(www.nevis.k12.mn.us &ndash\; Community Education/Current Programs)<br />\nHosted By: Nevis Community Ed. and Bethany Lutheran Church
LOCATION:Bethany Lutheran Church in Nevis
UID:e.91.43424
SEQUENCE:3
DTSTAMP:20260423T131048Z
URL:http://parkrapids.chambermaster.com/events/details/community-learning-forum-43424
END:VEVENT

END:VCALENDAR
