BEGIN:VCALENDAR
VERSION:2.0
PRODID:-//ChamberMaster//Event Calendar 2.0//EN
METHOD:PUBLISH
X-PUBLISHED-TTL:P3D
REFRESH-INTERVAL:P3D
CALSCALE:GREGORIAN
BEGIN:VEVENT
DTSTART:20241225T170000Z
DTEND:20241225T193000Z
X-MICROSOFT-CDO-ALLDAYEVENT:FALSE
SUMMARY:Christmas Community Dinner
DESCRIPTION:36th annual Community Christmas Dinner at the Park Rapids American Legion. Dinner is open to all\, no charge for meals\, freewill offerings are welcome. \n\n\n\nMeal delivery is available when you pre-order by noon on Monday 12/23. Call Lori Cannon at (218) 732-2981. Curbside pick up is also available on the day of.
X-ALT-DESC;FMTTYPE=text/html:36th annual Community Christmas Dinner at the Park Rapids American Legion. Dinner is open to all\, no charge for meals\, freewill offerings are welcome.&nbsp\;<br />\n<br />\nMeal delivery is available when you pre-order by noon on Monday 12/23. Call Lori Cannon at (218) 732-2981. Curbside pick up is also available on the day of.&nbsp\;
LOCATION:
UID:e.91.46236
SEQUENCE:3
DTSTAMP:20260420T015550Z
URL:http://parkrapids.chambermaster.com/events/details/christmas-community-dinner-46236
END:VEVENT

END:VCALENDAR
